


BEGIN:VCALENDAR
VERSION:2.0
PRODID:-//wp-events-plugin.com//7.2.3.1//EN
BEGIN:VEVENT
UID:50@riccasposa.com
DTSTART;TZID=America/New_York:20241216T000000
DTEND;TZID=America/New_York:20241230T235959
DTSTAMP:20250801T093953Z
URL:https://riccasposa.com/events/trunk-show-at-piazza-di-spagna-sposi-cos
 enza/
SUMMARY:Trunk Show at Piazza di Spagna Sposi - Cosenza
DESCRIPTION:N/A
ATTACH;FMTTYPE=image/jpeg:https://riccasposa.com/wp-content/uploads/2024/1
 2/file_4.jpg
CATEGORIES:Trunk Shows
LOCATION:Piazza di Spagna Sposi - Cosenza\, Via Kennedy\, 63\, 87036 Rende 
 CS\, Italy\, Roges\, 87036\, Italy
GEO:39.329113;16.2438774
X-APPLE-STRUCTURED-LOCATION;VALUE=URI;X-ADDRESS=Via Kennedy\, 63\, 87036 Re
 nde CS\, Italy\, Roges\, 87036\, Italy;X-APPLE-RADIUS=100;X-TITLE=Piazza d
 i Spagna Sposi - Cosenza:geo:39.329113,16.2438774
END:VEVENT
BEGIN:VTIMEZONE
TZID:America/New_York
X-LIC-LOCATION:America/New_York
BEGIN:STANDARD
DTSTART:20241103T010000
TZOFFSETFROM:-0400
TZOFFSETTO:-0500
TZNAME:EST
END:STANDARD
END:VTIMEZONE
END:VCALENDAR