


BEGIN:VCALENDAR
VERSION:2.0
PRODID:-//wp-events-plugin.com//7.2.3.1//EN
BEGIN:VEVENT
UID:51@riccasposa.com
DTSTART;TZID=America/New_York:20250118T000000
DTEND;TZID=America/New_York:20250201T235959
DTSTAMP:20250801T093952Z
URL:https://riccasposa.com/events/trunk-show-mimi-toko/
SUMMARY:Trunk Show Mimi Toko
DESCRIPTION:Trunk Show UK\, Derby in Mimi Toko
ATTACH;FMTTYPE=image/jpeg:https://riccasposa.com/wp-content/uploads/2024/1
 2/file_5.jpg
CATEGORIES:Trunk Shows
LOCATION:Derby\, United Kingdom\, 5 Derby Rd\, Aston-on-Trent\, Derby DE72 
 2AE\, UK\, Aston-on-Trent\, DE72 2AE\, United Kingdom
GEO:52.8616208;-1.385214
X-APPLE-STRUCTURED-LOCATION;VALUE=URI;X-ADDRESS=5 Derby Rd\, Aston-on-Trent
 \, Derby DE72 2AE\, UK\, Aston-on-Trent\, DE72 2AE\, United Kingdom;X-APPL
 E-RADIUS=100;X-TITLE=Derby\, United Kingdom:geo:52.8616208,-1.385214
END:VEVENT
BEGIN:VTIMEZONE
TZID:America/New_York
X-LIC-LOCATION:America/New_York
BEGIN:STANDARD
DTSTART:20241103T010000
TZOFFSETFROM:-0400
TZOFFSETTO:-0500
TZNAME:EST
END:STANDARD
END:VTIMEZONE
END:VCALENDAR